BEGIN:VCALENDAR
VERSION:2.0
PRODID:-//Carnoustie Bowling Club - ECPv6.15.20//NONSGML v1.0//EN
CALSCALE:GREGORIAN
METHOD:PUBLISH
X-WR-CALNAME:Carnoustie Bowling Club
X-ORIGINAL-URL:https://www.carnoustiebowlingclub.com
X-WR-CALDESC:Events for Carnoustie Bowling Club
REFRESH-INTERVAL;VALUE=DURATION:PT1H
X-Robots-Tag:noindex
X-PUBLISHED-TTL:PT1H
BEGIN:VTIMEZONE
TZID:Europe/Paris
BEGIN:DAYLIGHT
TZOFFSETFROM:+0100
TZOFFSETTO:+0200
TZNAME:CEST
DTSTART:20220327T010000
END:DAYLIGHT
BEGIN:STANDARD
TZOFFSETFROM:+0200
TZOFFSETTO:+0100
TZNAME:CET
DTSTART:20221030T010000
END:STANDARD
BEGIN:DAYLIGHT
TZOFFSETFROM:+0100
TZOFFSETTO:+0200
TZNAME:CEST
DTSTART:20230326T010000
END:DAYLIGHT
BEGIN:STANDARD
TZOFFSETFROM:+0200
TZOFFSETTO:+0100
TZNAME:CET
DTSTART:20231029T010000
END:STANDARD
BEGIN:DAYLIGHT
TZOFFSETFROM:+0100
TZOFFSETTO:+0200
TZNAME:CEST
DTSTART:20240331T010000
END:DAYLIGHT
BEGIN:STANDARD
TZOFFSETFROM:+0200
TZOFFSETTO:+0100
TZNAME:CET
DTSTART:20241027T010000
END:STANDARD
END:VTIMEZONE
BEGIN:VEVENT
DTSTART;VALUE=DATE:20230715
DTEND;VALUE=DATE:20230723
DTSTAMP:20260421T183139
CREATED:20221229T165052Z
LAST-MODIFIED:20221229T165052Z
UID:10000024-1689379200-1690070399@www.carnoustiebowlingclub.com
SUMMARY:Carnoustie Open Tournament 2023
DESCRIPTION:
URL:https://www.carnoustiebowlingclub.com/event/carnoustie-open-tournament-2023/
LOCATION:Carnoustie Bowling Club\, 35 Maule Street\, Carnoustie\, Angus\, DD7 6AB\, United Kingdom
CATEGORIES:Tournament
END:VEVENT
END:VCALENDAR